BEGIN:VCALENDAR
VERSION:2.0
PRODID:-//Eventin//Event Calendar//EN
CALSCALE:GREGORIAN
METHOD:PUBLISH
BEGIN:VEVENT
UID:cff59ffc61e49a1e6408e42c8649d758@apcrono.com.br
SUMMARY:2ª Corrida de Santa Rita de Cássia
DESCRIPTION:2ª Corrida de Santa Rita de Cássia\n\n\n\n\nInscreva-se\n\n\n
 \nRegulamento
LOCATION:Santa Cruz/RN
DTSTAMP:20260423T141203Z
DTSTART:20260509T200000Z
DTEND:20260509T220000Z
END:VEVENT
END:VCALENDAR
