BEGIN:VCALENDAR
VERSION:2.0
PRODID:-//Eventin//Event Calendar//EN
CALSCALE:GREGORIAN
METHOD:PUBLISH
BEGIN:VEVENT
UID:a2239b2a98c2cf8564c3a18f2a806a12@apcrono.com.br
SUMMARY:1ª Corrida de Nossa Senhora de Fátima
DESCRIPTION:1ª Corrida de Nossa Senhora de Fátima\n\n\n\n\nInscreva-se\n\
 n\n\nRegulamento
LOCATION:Jaçanã/RN
DTSTAMP:20260423T140420Z
DTSTART:20260510T200000Z
DTEND:20260510T220000Z
END:VEVENT
END:VCALENDAR
