BEGIN:VCALENDAR
VERSION:2.0
PRODID:-//Eventin//Event Calendar//EN
CALSCALE:GREGORIAN
METHOD:PUBLISH
BEGIN:VEVENT
UID:b53aed25c97c1fe0aa09d3ef85f53b34@apcrono.com.br
SUMMARY:Ritmo Saudável com Jeferson Brito - 2ª Edição
DESCRIPTION:Ritmo Saudável com Jeferson Brito - 2ª Edição\n\n\n\n\nInsc
 reva-se
LOCATION:Natal/RN
DTSTAMP:20260423T141030Z
DTSTART:20260607T083000Z
DTEND:20260607T110000Z
END:VEVENT
END:VCALENDAR
