BEGIN:VCALENDAR
VERSION:2.0
PRODID:-//Eventin//Event Calendar//EN
CALSCALE:GREGORIAN
METHOD:PUBLISH
BEGIN:VEVENT
UID:84eef62c6da6d665e2f2379f86b03e79@apcrono.com.br
SUMMARY:II Corrida do Trabalhador
DESCRIPTION:II Corrida do Trabalhador\n\n\n\n\nInscreva-se
LOCATION:Currais Novos/RN
DTSTAMP:20260423T140312Z
DTSTART:20260501T083000Z
DTEND:20260501T110000Z
END:VEVENT
END:VCALENDAR
