BEGIN:VCALENDAR
VERSION:2.0
PRODID:-//Eventin//Event Calendar//EN
CALSCALE:GREGORIAN
METHOD:PUBLISH
BEGIN:VEVENT
UID:f33e65c8883c758ce5bc2b89ffd4ccd7@apcrono.com.br
SUMMARY:CliMed Run 2026
DESCRIPTION:CliMed Run 2026\n\n\n\n\nInscreva-se\n\n\n\nRegulamento
LOCATION:Juazeirinho/PB
DTSTAMP:20260423T140234Z
DTSTART:20260524T090000Z
DTEND:20260524T110000Z
END:VEVENT
END:VCALENDAR
