BEGIN:VCALENDAR
VERSION:2.0
PRODID:-//Eventin//Event Calendar//EN
CALSCALE:GREGORIAN
METHOD:PUBLISH
BEGIN:VEVENT
UID:92d0202dce7dc23d4c75c34416e09d92@apcrono.com.br
SUMMARY:Corrida do Trabalhador 2026
DESCRIPTION:Corrida do Trabalhador 2026\n\n\n\n\nInscreva-se\n\n\n\nRegulam
 ento
LOCATION:Itabaiana/PB
DTSTAMP:20260423T141115Z
DTSTART:20260501T090000Z
DTEND:20260501T110000Z
END:VEVENT
END:VCALENDAR
