BEGIN:VCALENDAR
VERSION:2.0
PRODID:-//Eventin//Event Calendar//EN
CALSCALE:GREGORIAN
METHOD:PUBLISH
BEGIN:VEVENT
UID:ea90697dca05b752595101f2243adb13@apcrono.com.br
SUMMARY:1ª Corrida do Lojão do Piso
DESCRIPTION:1ª Corrida do Lojão do Piso\n\n\n\n\nInscreva-se\n\n\n\nRegul
 amento
LOCATION:Jaçanã/RN
DTSTAMP:20260423T140420Z
DTSTART:20260426T200000Z
DTEND:20260426T220000Z
END:VEVENT
END:VCALENDAR
