BEGIN:VCALENDAR
VERSION:2.0
PRODID:-//Eventin//Event Calendar//EN
CALSCALE:GREGORIAN
METHOD:PUBLISH
BEGIN:VEVENT
UID:c7a94925ac22bd2ed4f7cf449108a7e0@apcrono.com.br
SUMMARY:Giro Pernambuco 2026 – Etapa Carpina
DESCRIPTION:Giro Pernambuco 2026 – Etapa Carpina\n\n\n\n\nInscreva-se\n\n
 \n\nRegulamento
LOCATION:Carpina/PE
DTSTAMP:20260423T140645Z
DTSTART:20260614T103000Z
DTEND:20260614T150000Z
END:VEVENT
END:VCALENDAR
