BEGIN:VCALENDAR
VERSION:2.0
PRODID:-//Eventin//Event Calendar//EN
CALSCALE:GREGORIAN
METHOD:PUBLISH
BEGIN:VEVENT
UID:fc50061d8ed5b52ddf0d3a7957608432@apcrono.com.br
SUMMARY:Corrida F2 RUN 2026
DESCRIPTION:Corrida F2 RUN 2026\n\n\n\n\nInscreva-se\n\n\n\nRegulamento
LOCATION:Apodi/RN
DTSTAMP:20260423T140420Z
DTSTART:20260531T090000Z
DTEND:20260531T110000Z
END:VEVENT
END:VCALENDAR
