BEGIN:VCALENDAR
VERSION:2.0
PRODID:-//Eventin//Event Calendar//EN
CALSCALE:GREGORIAN
METHOD:PUBLISH
BEGIN:VEVENT
UID:dd16701207b183a889fe37075e0b5dc1@apcrono.com.br
SUMMARY:9ª Copa Paraíba de MTB XCM
DESCRIPTION:9ª Copa Paraíba de MTB XCM\n\n\n\n\nInscreva-se\n\n\n\nRegula
 mento
LOCATION:Soledade/PB
DTSTAMP:20260423T141208Z
DTSTART:20260517T110000Z
DTEND:20260517T150000Z
END:VEVENT
END:VCALENDAR
