BEGIN:VCALENDAR
VERSION:2.0
PRODID:-//Eventin//Event Calendar//EN
CALSCALE:GREGORIAN
METHOD:PUBLISH
BEGIN:VEVENT
UID:eecf571400892e89226c68584b418c0b@apcrono.com.br
SUMMARY:085 MTB FEST 2026
DESCRIPTION:085 MTB FEST 2026\n\n\n\n\nInscreva-se\n\n\n\nRegulamento
LOCATION:Aquiraz/CE
DTSTAMP:20260423T140558Z
DTSTART:20260621T103000Z
DTEND:20260621T150000Z
END:VEVENT
END:VCALENDAR
