BEGIN:VCALENDAR
VERSION:2.0
PRODID:-//Eventin//Event Calendar//EN
CALSCALE:GREGORIAN
METHOD:PUBLISH
BEGIN:VEVENT
UID:164fa5bbd096ed0a23e031007b9068de@apcrono.com.br
SUMMARY:Vibe Runners - Edição Barra do Cunhaú
DESCRIPTION:Vibe Runners - Edição Barra do Cunhaú\n\n\n\n\nInscreva-se\n
 \n\n\nRegulamento
LOCATION:Canguaretama/RN
DTSTAMP:20260423T140517Z
DTSTART:20260503T084500Z
DTEND:20260503T110000Z
END:VEVENT
END:VCALENDAR
