BEGIN:VCALENDAR
VERSION:2.0
PRODID:-//Eventin//Event Calendar//EN
CALSCALE:GREGORIAN
METHOD:PUBLISH
BEGIN:VEVENT
UID:28dac16c503c696c890af0482e02402d@apcrono.com.br
SUMMARY:1º Cacimba Bike Fest
DESCRIPTION:1º Cacimba Bike Fest\n\n\n\n\nInscreva-se\n\n\n\nRegulamento
LOCATION:Cacimba de Dentro/PB
DTSTAMP:20260423T140517Z
DTSTART:20260426T110000Z
DTEND:20260426T150000Z
END:VEVENT
END:VCALENDAR
